BEGIN:VCALENDAR
VERSION:2.0
PRODID:-//time.now/holidays//NONSGML v1.0//EN
BEGIN:VEVENT
UID:3254a10a-9699-4d89-aa19-923514524559
DTSTAMP:20260420T164107Z
DTSTART;VALUE=DATE:20270520
SUMMARY:Visaka Bochea Day (Camboya)
END:VEVENT
END:VCALENDAR