BEGIN:VCALENDAR
VERSION:2.0
PRODID:-//time.now/holidays//NONSGML v1.0//EN
BEGIN:VEVENT
UID:eb04a901-7ad7-49c1-a67c-613f4aebb2b1
DTSTAMP:20260422T151429Z
DTSTART;VALUE=DATE:20261229
SUMMARY:Peace Day in Cambodia (Camboya)
END:VEVENT
END:VCALENDAR