BEGIN:VCALENDAR
VERSION:2.0
PRODID:-//time.now/holidays//NONSGML v1.0//EN
BEGIN:VEVENT
UID:46cef114-c60a-41dc-a6ec-812c63a3e517
DTSTAMP:20260420T204941Z
DTSTART;VALUE=DATE:20261109
SUMMARY:National Independence Day (Camboya)
END:VEVENT
END:VCALENDAR