BEGIN:VCALENDAR
VERSION:2.0
PRODID:-//time.now/holidays//NONSGML v1.0//EN
BEGIN:VEVENT
UID:5a7e3c1b-fefb-493a-b264-ed232e0184b7
DTSTAMP:20260422T083948Z
DTSTART;VALUE=DATE:20261015
SUMMARY:HM King Norodom Sihanouk Mourning Day (Camboya)
END:VEVENT
END:VCALENDAR