BEGIN:VCALENDAR
VERSION:2.0
PRODID:-//time.now/holidays//NONSGML v1.0//EN
BEGIN:VEVENT
UID:ee21b9c0-6fd9-4562-b864-d559567b1172
DTSTAMP:20260420T200105Z
DTSTART;VALUE=DATE:20330924
SUMMARY:Constitution Day; Pchum Ben Day (Camboya)
END:VEVENT
END:VCALENDAR