BEGIN:VCALENDAR
VERSION:2.0
PRODID:-//time.now/holidays//NONSGML v1.0//EN
BEGIN:VEVENT
UID:20e09ef1-85c5-4fd0-bd85-b06780f47c11
DTSTAMP:20260419T180501Z
DTSTART;VALUE=DATE:20260205
SUMMARY:Unity Day (Burundi)
END:VEVENT
END:VCALENDAR