BEGIN:VCALENDAR
VERSION:2.0
PRODID:-//time.now/holidays//NONSGML v1.0//EN
BEGIN:VEVENT
UID:ec5e70e6-82e8-4c3f-a712-f5cee7c0ba0d
DTSTAMP:20260420T052353Z
DTSTART;VALUE=DATE:20340206
SUMMARY:Unity Day (observed) (Burundi)
END:VEVENT
END:VCALENDAR