BEGIN:VCALENDAR
VERSION:2.0
PRODID:-//time.now/holidays//NONSGML v1.0//EN
BEGIN:VEVENT
UID:32446e6a-e529-4528-a31c-44fb30ff6fa7
DTSTAMP:20260422T093014Z
DTSTART;VALUE=DATE:20301014
SUMMARY:Prince Louis Rwagasore Day (observed) (Burundi)
END:VEVENT
END:VCALENDAR