BEGIN:VCALENDAR
VERSION:2.0
PRODID:-//time.now/holidays//NONSGML v1.0//EN
BEGIN:VEVENT
UID:adbf3f8c-67e6-4e0e-8223-76f43c7e5af1
DTSTAMP:20260420T070606Z
DTSTART;VALUE=DATE:20260701
SUMMARY:Independence Day (Burundi)
END:VEVENT
END:VCALENDAR