BEGIN:VCALENDAR
VERSION:2.0
PRODID:-//time.now/holidays//NONSGML v1.0//EN
BEGIN:VEVENT
UID:44ab53d3-38e4-485f-83de-8cc20e205b72
DTSTAMP:20260420T212936Z
DTSTART;VALUE=DATE:20330103
SUMMARY:Eid ul Fitr (estimated) (observed) (Burundi)
END:VEVENT
END:VCALENDAR