BEGIN:VCALENDAR
VERSION:2.0
PRODID:-//time.now/holidays//NONSGML v1.0//EN
BEGIN:VEVENT
UID:4ca1b419-d079-4e52-a946-dfce1a9ddc23
DTSTAMP:20260422T104059Z
DTSTART;VALUE=DATE:20261211
SUMMARY:Proclamation of Independence Day (Burkina Faso)
END:VEVENT
END:VCALENDAR