BEGIN:VCALENDAR
VERSION:2.0
PRODID:-//time.now/holidays//NONSGML v1.0//EN
BEGIN:VEVENT
UID:6a5a5ff8-7723-49f5-8b27-ab47cc445d51
DTSTAMP:20260422T093033Z
DTSTART;VALUE=DATE:20260101
SUMMARY:New Year's Day (Burkina Faso)
END:VEVENT
END:VCALENDAR