BEGIN:VCALENDAR
VERSION:2.0
PRODID:-//time.now/holidays//NONSGML v1.0//EN
BEGIN:VEVENT
UID:0547efd9-47d7-43d8-951b-5badca273acf
DTSTAMP:20260422T205922Z
DTSTART;VALUE=DATE:20221009
SUMMARY:Mawlid (Burkina Faso)
END:VEVENT
END:VCALENDAR