BEGIN:VCALENDAR
VERSION:2.0
PRODID:-//time.now/holidays//NONSGML v1.0//EN
BEGIN:VEVENT
UID:8544a70b-17a3-4c37-a2c2-2b0eda7b9f6f
DTSTAMP:20260422T091259Z
DTSTART;VALUE=DATE:20261031
SUMMARY:Martyrs' Day (Burkina Faso)
END:VEVENT
END:VCALENDAR