BEGIN:VCALENDAR
VERSION:2.0
PRODID:-//time.now/holidays//NONSGML v1.0//EN
BEGIN:VEVENT
UID:b92dbe72-7d21-471b-b539-499718ae8e3d
DTSTAMP:20260422T105207Z
DTSTART;VALUE=DATE:20220502
SUMMARY:Eid al-Fitr; Labour Day (observed) (Burkina Faso)
END:VEVENT
END:VCALENDAR