BEGIN:VCALENDAR
VERSION:2.0
PRODID:-//time.now/holidays//NONSGML v1.0//EN
BEGIN:VEVENT
UID:1c1cc56c-25bd-41cf-8a6e-bc63ebcb5c2e
DTSTAMP:20260420T205822Z
DTSTART;VALUE=DATE:20260406
SUMMARY:Easter Monday (Burkina Faso)
END:VEVENT
END:VCALENDAR