BEGIN:VCALENDAR
VERSION:2.0
PRODID:-//time.now/holidays//NONSGML v1.0//EN
BEGIN:VEVENT
UID:9bf2912d-8722-4618-bdfb-0a5448772455
DTSTAMP:20260422T105331Z
DTSTART;VALUE=DATE:20261225
SUMMARY:Christmas Day (Burkina Faso)
END:VEVENT
END:VCALENDAR