BEGIN:VCALENDAR
VERSION:2.0
PRODID:-//time.now/holidays//NONSGML v1.0//EN
BEGIN:VEVENT
UID:e2175bc1-2952-471f-a7a4-398234e7730c
DTSTAMP:20260421T024302Z
DTSTART;VALUE=DATE:20280508
SUMMARY:Saint George's Day (Day of the Bulgarian Army) (observed) (Bulgaria)
END:VEVENT
END:VCALENDAR