BEGIN:VCALENDAR
VERSION:2.0
PRODID:-//time.now/holidays//NONSGML v1.0//EN
BEGIN:VEVENT
UID:8444847e-f39f-4d78-a9d3-e4d616bca6a3
DTSTAMP:20260420T203332Z
DTSTART;VALUE=DATE:20280103
SUMMARY:New Year's Day (observed) (Bulgaria)
END:VEVENT
END:VCALENDAR