BEGIN:VCALENDAR
VERSION:2.0
PRODID:-//time.now/holidays//NONSGML v1.0//EN
BEGIN:VEVENT
UID:dd3149b6-4af3-44e8-b6ad-525556488d8b
DTSTAMP:20260420T193944Z
DTSTART;VALUE=DATE:20290305
SUMMARY:Liberation Day (observed) (Bulgaria)
END:VEVENT
END:VCALENDAR