BEGIN:VCALENDAR
VERSION:2.0
PRODID:-//time.now/holidays//NONSGML v1.0//EN
BEGIN:VEVENT
UID:c0e0104b-7fe6-470f-a3ce-08c05036eef6
DTSTAMP:20260421T035630Z
DTSTART;VALUE=DATE:20240506
SUMMARY:Easter; Saint George's Day (Day of the Bulgarian Army) (Bulgaria)
END:VEVENT
END:VCALENDAR