BEGIN:VCALENDAR
VERSION:2.0
PRODID:-//time.now/holidays//NONSGML v1.0//EN
BEGIN:VEVENT
UID:17f74ce2-fd4c-42d9-8ce8-4e63a07cc682
DTSTAMP:20260420T192603Z
DTSTART;VALUE=DATE:20260320
SUMMARY:Eid al-Fitr (estimated) (Brunei)
END:VEVENT
END:VCALENDAR