BEGIN:VCALENDAR
VERSION:2.0
PRODID:-//time.now/holidays//NONSGML v1.0//EN
BEGIN:VEVENT
UID:a5220cd0-5a6e-47a9-8438-6c0bdf963cdb
DTSTAMP:20260422T092338Z
DTSTART;VALUE=DATE:20271225
SUMMARY:Christmas Day; Isra' and Mi'raj (estimated) (Brunei)
END:VEVENT
END:VCALENDAR