BEGIN:VCALENDAR
VERSION:2.0
PRODID:-//time.now/holidays//NONSGML v1.0//EN
BEGIN:VEVENT
UID:ad8982bc-e29a-42b4-9215-e05878e5b22c
DTSTAMP:20260420T045842Z
DTSTART;VALUE=DATE:20260601
SUMMARY:Armed Forces Day (observed) (Brunei)
END:VEVENT
END:VCALENDAR