BEGIN:VCALENDAR
VERSION:2.0
PRODID:-//time.now/holidays//NONSGML v1.0//EN
BEGIN:VEVENT
UID:221649bf-858e-4100-81d6-8f2906b93594
DTSTAMP:20260421T011321Z
DTSTART;VALUE=DATE:20250318
SUMMARY:Anniversary of the revelation of the Quran (Brunei)
END:VEVENT
END:VCALENDAR