BEGIN:VCALENDAR
VERSION:2.0
PRODID:-//time.now/holidays//NONSGML v1.0//EN
BEGIN:VEVENT
UID:11b02cf3-daf9-4490-8b46-82dfb235cdaa
DTSTAMP:20260420T215309Z
DTSTART;VALUE=DATE:20260706
SUMMARY:Virgin Islands Day (Islas Vírgenes Británicas)
END:VEVENT
END:VCALENDAR