BEGIN:VCALENDAR
VERSION:2.0
PRODID:-//time.now/holidays//NONSGML v1.0//EN
BEGIN:VEVENT
UID:820bef2d-e0ea-485a-8bce-2d113a47faa2
DTSTAMP:20260422T104541Z
DTSTART;VALUE=DATE:20220603
SUMMARY:Platinum Jubilee of Elizabeth II (Islas Vírgenes Británicas)
END:VEVENT
END:VCALENDAR