BEGIN:VCALENDAR
VERSION:2.0
PRODID:-//time.now/holidays//NONSGML v1.0//EN
BEGIN:VEVENT
UID:f41412fe-ebe7-4401-9d12-68d229a84d25
DTSTAMP:20260420T214827Z
DTSTART;VALUE=DATE:20260101
SUMMARY:New Year's Day (Islas Vírgenes Británicas)
END:VEVENT
END:VCALENDAR