BEGIN:VCALENDAR
VERSION:2.0
PRODID:-//time.now/holidays//NONSGML v1.0//EN
BEGIN:VEVENT
UID:eb015396-6ac2-415c-a8a7-e44d547d2a4b
DTSTAMP:20260422T085822Z
DTSTART;VALUE=DATE:20280103
SUMMARY:New Year's Day (observed) (Islas Vírgenes Británicas)
END:VEVENT
END:VCALENDAR