BEGIN:VCALENDAR
VERSION:2.0
PRODID:-//time.now/holidays//NONSGML v1.0//EN
BEGIN:VEVENT
UID:30bae5ff-5789-4f50-b67e-5d424dcbaa02
DTSTAMP:20260420T160749Z
DTSTART;VALUE=DATE:20260403
SUMMARY:Good Friday (Islas Vírgenes Británicas)
END:VEVENT
END:VCALENDAR