BEGIN:VCALENDAR
VERSION:2.0
PRODID:-//time.now/holidays//NONSGML v1.0//EN
BEGIN:VEVENT
UID:8ebd535d-98cf-4f50-8bd8-17d4416212ff
DTSTAMP:20260420T182209Z
DTSTART;VALUE=DATE:20260805
SUMMARY:Emancipation Wednesday (Islas Vírgenes Británicas)
END:VEVENT
END:VCALENDAR