BEGIN:VCALENDAR
VERSION:2.0
PRODID:-//time.now/holidays//NONSGML v1.0//EN
BEGIN:VEVENT
UID:ab187247-3abf-4a03-a7eb-7f1e8967aef1
DTSTAMP:20260423T001213Z
DTSTART;VALUE=DATE:20230508
SUMMARY:Coronation of Charles III (Islas Vírgenes Británicas)
END:VEVENT
END:VCALENDAR