BEGIN:VCALENDAR
VERSION:2.0
PRODID:-//time.now/holidays//NONSGML v1.0//EN
BEGIN:VEVENT
UID:a81a57a7-d9e2-4a1a-a6cf-4bf1305fba5d
DTSTAMP:20260422T124048Z
DTSTART;VALUE=DATE:20261225
SUMMARY:Christmas Day (Islas Vírgenes Británicas)
END:VEVENT
END:VCALENDAR