BEGIN:VCALENDAR
VERSION:2.0
PRODID:-//time.now/holidays//NONSGML v1.0//EN
BEGIN:VEVENT
UID:a07ab370-8bfe-4958-aa78-d345624829f9
DTSTAMP:20260420T161405Z
DTSTART;VALUE=DATE:20260319
SUMMARY:Saint Joseph's Day (Brasil)
END:VEVENT
END:VCALENDAR