BEGIN:VCALENDAR
VERSION:2.0
PRODID:-//time.now/holidays//NONSGML v1.0//EN
BEGIN:VEVENT
UID:b2271b54-0d41-4071-9db0-185bc1cdd3e9
DTSTAMP:20260422T161629Z
DTSTART;VALUE=DATE:20260413
SUMMARY:Our Lady of Penha (Brasil)
END:VEVENT
END:VCALENDAR