BEGIN:VCALENDAR
VERSION:2.0
PRODID:-//time.now/holidays//NONSGML v1.0//EN
BEGIN:VEVENT
UID:eb24ad75-6dbc-4ccf-b905-8836dbc0d821
DTSTAMP:20260421T021542Z
DTSTART;VALUE=DATE:20261012
SUMMARY:Our Lady of Aparecida (Brasil)
END:VEVENT
END:VCALENDAR