BEGIN:VCALENDAR
VERSION:2.0
PRODID:-//time.now/holidays//NONSGML v1.0//EN
BEGIN:VEVENT
UID:2c8d7797-6c45-4dcf-9907-a494af176f5f
DTSTAMP:20260422T063903Z
DTSTART;VALUE=DATE:20261120
SUMMARY:National Day of Zumbi and Black Awareness (Brasil)
END:VEVENT
END:VCALENDAR