BEGIN:VCALENDAR
VERSION:2.0
PRODID:-//time.now/holidays//NONSGML v1.0//EN
BEGIN:VEVENT
UID:640459d7-ba04-4cf2-bc10-ca636a4840aa
DTSTAMP:20260421T035629Z
DTSTART;VALUE=DATE:20260728
SUMMARY:Maranhão joining to independence of Brazil (Brasil)
END:VEVENT
END:VCALENDAR