BEGIN:VCALENDAR
VERSION:2.0
PRODID:-//time.now/holidays//NONSGML v1.0//EN
BEGIN:VEVENT
UID:6b13aae1-d966-464e-aeb9-292cabba5b01
DTSTAMP:20260421T035629Z
DTSTART;VALUE=DATE:20260815
SUMMARY:Grão-Pará joining to independence of Brazil (Brasil)
END:VEVENT
END:VCALENDAR