BEGIN:VCALENDAR
VERSION:2.0
PRODID:-//time.now/holidays//NONSGML v1.0//EN
BEGIN:VEVENT
UID:351955f8-13b9-4f07-89e0-e499828fc364
DTSTAMP:20260420T122621Z
DTSTART;VALUE=DATE:20260123
SUMMARY:Evangelical Day (Brasil)
END:VEVENT
END:VCALENDAR