BEGIN:VCALENDAR
VERSION:2.0
PRODID:-//time.now/holidays//NONSGML v1.0//EN
BEGIN:VEVENT
UID:8e0c3c4a-0020-49a5-bad1-ccdce6b70cd9
DTSTAMP:20260420T141223Z
DTSTART;VALUE=DATE:20260709
SUMMARY:Constitutionalist Revolution (Brasil)
END:VEVENT
END:VCALENDAR