BEGIN:VCALENDAR
VERSION:2.0
PRODID:-//time.now/holidays//NONSGML v1.0//EN
BEGIN:VEVENT
UID:42f37465-2540-48ed-8d07-fa506300100b
DTSTAMP:20260420T010210Z
DTSTART;VALUE=DATE:20260318
SUMMARY:Autonomy Day (Brasil)
END:VEVENT
END:VCALENDAR