BEGIN:VCALENDAR
VERSION:2.0
PRODID:-//time.now/holidays//NONSGML v1.0//EN
BEGIN:VEVENT
UID:b42548ce-156c-4d2c-b0ee-18e2748b32de
DTSTAMP:20260420T063243Z
DTSTART;VALUE=DATE:20260101
SUMMARY:New Year's Day (Botsuana)
END:VEVENT
END:VCALENDAR