BEGIN:VCALENDAR
VERSION:2.0
PRODID:-//time.now/holidays//NONSGML v1.0//EN
BEGIN:VEVENT
UID:b78b1fed-f637-44fc-aa49-20f7d63dd056
DTSTAMP:20260422T223738Z
DTSTART;VALUE=DATE:20280103
SUMMARY:New Year's Day Holiday (observed) (Botsuana)
END:VEVENT
END:VCALENDAR