BEGIN:VCALENDAR
VERSION:2.0
PRODID:-//time.now/holidays//NONSGML v1.0//EN
BEGIN:VEVENT
UID:c29c3921-dbf0-48bb-925f-4d6061ee1072
DTSTAMP:20260420T002646Z
DTSTART;VALUE=DATE:20260403
SUMMARY:Good Friday (Botsuana)
END:VEVENT
END:VCALENDAR