BEGIN:VCALENDAR
VERSION:2.0
PRODID:-//time.now/holidays//NONSGML v1.0//EN
BEGIN:VEVENT
UID:e511a7dc-53d2-470c-96c6-7c2498c6ad3a
DTSTAMP:20260420T073504Z
DTSTART;VALUE=DATE:20331227
SUMMARY:Christmas Day (observed) (Botsuana)
END:VEVENT
END:VCALENDAR