BEGIN:VCALENDAR
VERSION:2.0
PRODID:-//time.now/holidays//NONSGML v1.0//EN
BEGIN:VEVENT
UID:52ea6054-7131-4e71-b85f-74a584babe99
DTSTAMP:20260420T013410Z
DTSTART;VALUE=DATE:20261226
SUMMARY:Boxing Day (Botsuana)
END:VEVENT
END:VCALENDAR