BEGIN:VCALENDAR
VERSION:2.0
PRODID:-//time.now/holidays//NONSGML v1.0//EN
BEGIN:VEVENT
UID:7613867b-76d1-46e3-88ea-38f06b5e85c4
DTSTAMP:20260421T151547Z
DTSTART;VALUE=DATE:20261228
SUMMARY:Boxing Day Holiday (Botsuana)
END:VEVENT
END:VCALENDAR