BEGIN:VCALENDAR
VERSION:2.0
PRODID:-//time.now/holidays//NONSGML v1.0//EN
BEGIN:VEVENT
UID:be4dcfca-79b3-4cdc-8a82-6eeee1aa9e77
DTSTAMP:20260422T121304Z
DTSTART;VALUE=DATE:20260114
SUMMARY:Orthodox New Year (Bosnia y Herzegovina)
END:VEVENT
END:VCALENDAR