BEGIN:VCALENDAR
VERSION:2.0
PRODID:-//time.now/holidays//NONSGML v1.0//EN
BEGIN:VEVENT
UID:2d6ae51b-980a-4708-b69e-38ffde5db153
DTSTAMP:20260422T122752Z
DTSTART;VALUE=DATE:20290108
SUMMARY:Orthodox Christmas Day (observed) (Bosnia y Herzegovina)
END:VEVENT
END:VCALENDAR